BEGIN:VCALENDAR
VERSION:2.0
PRODID:-//Banksia Park International High School - ECPv6.15.20//NONSGML v1.0//EN
CALSCALE:GREGORIAN
METHOD:PUBLISH
X-ORIGINAL-URL:https://bpihs.sa.edu.au
X-WR-CALDESC:Events for Banksia Park International High School
REFRESH-INTERVAL;VALUE=DURATION:PT1H
X-Robots-Tag:noindex
X-PUBLISHED-TTL:PT1H
BEGIN:VTIMEZONE
TZID:Australia/Adelaide
BEGIN:STANDARD
TZOFFSETFROM:+1030
TZOFFSETTO:+0930
TZNAME:ACST
DTSTART:20240406T163000
END:STANDARD
BEGIN:DAYLIGHT
TZOFFSETFROM:+0930
TZOFFSETTO:+1030
TZNAME:ACDT
DTSTART:20241005T163000
END:DAYLIGHT
BEGIN:STANDARD
TZOFFSETFROM:+1030
TZOFFSETTO:+0930
TZNAME:ACST
DTSTART:20250405T163000
END:STANDARD
BEGIN:DAYLIGHT
TZOFFSETFROM:+0930
TZOFFSETTO:+1030
TZNAME:ACDT
DTSTART:20251004T163000
END:DAYLIGHT
BEGIN:STANDARD
TZOFFSETFROM:+1030
TZOFFSETTO:+0930
TZNAME:ACST
DTSTART:20260404T163000
END:STANDARD
BEGIN:DAYLIGHT
TZOFFSETFROM:+0930
TZOFFSETTO:+1030
TZNAME:ACDT
DTSTART:20261003T163000
END:DAYLIGHT
END:VTIMEZONE
BEGIN:VEVENT
DTSTART;TZID=Australia/Adelaide:20250305T081500
DTEND;TZID=Australia/Adelaide:20250305T143000
DTSTAMP:20260422T193835
CREATED:20250303T231302Z
LAST-MODIFIED:20250303T231302Z
UID:10000281-1741162500-1741185000@bpihs.sa.edu.au
SUMMARY:Sports Day
DESCRIPTION:Our annual Sports Day is coming up on Wednesday\, 5 March\, and we look forward to a fantastic day of competition\, teamwork\, and school spirit! \nAttendance & Transport – Sports Day is a compulsory school day\, and all students are expected to participate in track and field events and/or novelty activities while dressing up in their house colours. \n\nStudents who have paid for the bus must be at school by 7.30am and meet under the COLA. They will return to school at approximately 3.15pm.\nStudents not catching the bus must arrive at Bridgestone Athletics Centre by 8.00am for an 8.15am roll check with their Student Life Mentor. Dismissal will be around 2.30pm.\n\nFood & Fundraising\n\nA variety of hot food\, snacks\, water\, and soft drinks will be available for purchase from the on-site kiosk (cash and card accepted).\nHouse Captains will be running fundraising activities\, though no food products will be sold.(cash only).\n\nSun Safety & Hydration\nTo ensure everyone’s safety and comfort: \n\nStudents should apply sunscreen before arriving and are responsible for reapplying it throughout the day. Sunscreen will be available in the clubrooms.\nA hat is essential\, and students must bring a refillable water bottle. They will be able to refill their bottles throughout the day.\n\nDress Code\n\nStudents are encouraged to dress up in house colours\, with prizes for the best-dressed.\nOutfits must be school appropriate and provide sun protection (no tank tops\, shoulders must be covered).\nBody paint is not permitted due to staining issues\, and aerosol hair spray must be applied at home.\n\nHot Weather Contingency Plan\nIf the Bureau of Meteorology (BOM) website or app forecasts a temperature of 36°C or higher at 6.00pm the night before Sports Day\, the following adjustments will apply: \n\n36°C to 38°C – A modified program will run\, with Sports Day concluding at 12.30pm.\n39°C or above – Sports Day will be cancelled\, and normal lessons will take place at school.\n\nIf the forecast is 36°C or above\, you will receive an SMS update from the school at 7.00pm on 4 March. \nEarly Departures \nStudents are expected to attend the full day. If an early departure is necessary\, parents must contact the school on 8264 8122. Students must sign out at the clubroom and be collected via the Frost Road car park. \nThank you for your support in making Sports Day an exciting and enjoyable event for all. We look forward to seeing our students showcase their enthusiasm\, house spirit\, and athletic skills! \nYours sincerely \nAlex Brook\nH&PE Coordinator \nNatasa Penna\nPrincipal
URL:https://bpihs.sa.edu.au/event/sports-day/
LOCATION:Bridgestone Athletics Centre\, Frost Road\, Salisbury\, SA\, 5108\, Australia
ORGANIZER;CN="Banksia Park International High School":MAILTO:dl.1117.info@schools.sa.edu.au
END:VEVENT
END:VCALENDAR