BEGIN:VCALENDAR
VERSION:2.0
PRODID:-//Banksia Park International High School - ECPv6.15.20//NONSGML v1.0//EN
CALSCALE:GREGORIAN
METHOD:PUBLISH
X-ORIGINAL-URL:https://bpihs.sa.edu.au
X-WR-CALDESC:Events for Banksia Park International High School
REFRESH-INTERVAL;VALUE=DURATION:PT1H
X-Robots-Tag:noindex
X-PUBLISHED-TTL:PT1H
BEGIN:VTIMEZONE
TZID:Australia/Adelaide
BEGIN:DAYLIGHT
TZOFFSETFROM:+0930
TZOFFSETTO:+1030
TZNAME:ACDT
DTSTART:19711030T163000
END:DAYLIGHT
END:VTIMEZONE
BEGIN:VEVENT
DTSTART;TZID=Australia/Adelaide:20260424T233743
DTEND;TZID=Australia/Adelaide:20260424T233743
DTSTAMP:20260424T233743
CREATED:20230901T031018Z
LAST-MODIFIED:20230901T031018Z
UID:10000190-0-0@bpihs.sa.edu.au
SUMMARY:Finance Committee
DESCRIPTION:
URL:https://bpihs.sa.edu.au/event/finance-committee/
END:VEVENT
BEGIN:VEVENT
DTSTART;TZID=Australia/Adelaide:20260424T233743
DTEND;TZID=Australia/Adelaide:20260424T233743
DTSTAMP:20260424T233743
CREATED:20230705T044303Z
LAST-MODIFIED:20230705T044303Z
UID:10000147-0-0@bpihs.sa.edu.au
SUMMARY:Year 12 Valedictory
DESCRIPTION:
URL:https://bpihs.sa.edu.au/event/year-12-valedictory/
END:VEVENT
BEGIN:VEVENT
DTSTART;TZID=Australia/Adelaide:20260424T233743
DTEND;TZID=Australia/Adelaide:20260424T233743
DTSTAMP:20260424T233743
CREATED:20230705T044303Z
LAST-MODIFIED:20230705T044303Z
UID:10000148-0-0@bpihs.sa.edu.au
SUMMARY:Year 10 Final Assembly
DESCRIPTION:
URL:https://bpihs.sa.edu.au/event/year-10-final-assembly/
END:VEVENT
BEGIN:VEVENT
DTSTART;TZID=Australia/Adelaide:20260424T233743
DTEND;TZID=Australia/Adelaide:20260424T233743
DTSTAMP:20260424T233743
CREATED:20230705T044303Z
LAST-MODIFIED:20230705T044303Z
UID:10000150-0-0@bpihs.sa.edu.au
SUMMARY:Year 11 Final Assembly
DESCRIPTION:
URL:https://bpihs.sa.edu.au/event/year-11-final-assembly/
END:VEVENT
BEGIN:VEVENT
DTSTART;TZID=Australia/Adelaide:20260424T233743
DTEND;TZID=Australia/Adelaide:20260424T233743
DTSTAMP:20260424T233743
CREATED:20230705T044232Z
LAST-MODIFIED:20230705T044232Z
UID:10000122-0-0@bpihs.sa.edu.au
SUMMARY:Senior Solo Performance Evening
DESCRIPTION:
URL:https://bpihs.sa.edu.au/event/senior-solo-performance-evening/
END:VEVENT
END:VCALENDAR