BEGIN:VCALENDAR
VERSION:2.0
PRODID:-//Banksia Park International High School - ECPv6.15.20//NONSGML v1.0//EN
CALSCALE:GREGORIAN
METHOD:PUBLISH
X-ORIGINAL-URL:https://bpihs.sa.edu.au
X-WR-CALDESC:Events for Banksia Park International High School
REFRESH-INTERVAL;VALUE=DURATION:PT1H
X-Robots-Tag:noindex
X-PUBLISHED-TTL:PT1H
BEGIN:VTIMEZONE
TZID:Australia/Adelaide
BEGIN:DAYLIGHT
TZOFFSETFROM:+0930
TZOFFSETTO:+1030
TZNAME:ACDT
DTSTART:19711030T163000
END:DAYLIGHT
BEGIN:STANDARD
TZOFFSETFROM:+1030
TZOFFSETTO:+0930
TZNAME:ACST
DTSTART:19720226T163000
END:STANDARD
BEGIN:DAYLIGHT
TZOFFSETFROM:+0930
TZOFFSETTO:+1030
TZNAME:ACDT
DTSTART:19721028T163000
END:DAYLIGHT
BEGIN:STANDARD
TZOFFSETFROM:+1030
TZOFFSETTO:+0930
TZNAME:ACST
DTSTART:19730303T163000
END:STANDARD
BEGIN:DAYLIGHT
TZOFFSETFROM:+0930
TZOFFSETTO:+1030
TZNAME:ACDT
DTSTART:19731027T163000
END:DAYLIGHT
BEGIN:STANDARD
TZOFFSETFROM:+1030
TZOFFSETTO:+0930
TZNAME:ACST
DTSTART:19740302T163000
END:STANDARD
BEGIN:DAYLIGHT
TZOFFSETFROM:+0930
TZOFFSETTO:+1030
TZNAME:ACDT
DTSTART:19741026T163000
END:DAYLIGHT
BEGIN:STANDARD
TZOFFSETFROM:+1030
TZOFFSETTO:+0930
TZNAME:ACST
DTSTART:19750301T163000
END:STANDARD
BEGIN:DAYLIGHT
TZOFFSETFROM:+0930
TZOFFSETTO:+1030
TZNAME:ACDT
DTSTART:19751025T163000
END:DAYLIGHT
BEGIN:STANDARD
TZOFFSETFROM:+1030
TZOFFSETTO:+0930
TZNAME:ACST
DTSTART:19760306T163000
END:STANDARD
BEGIN:DAYLIGHT
TZOFFSETFROM:+0930
TZOFFSETTO:+1030
TZNAME:ACDT
DTSTART:19761030T163000
END:DAYLIGHT
BEGIN:STANDARD
TZOFFSETFROM:+1030
TZOFFSETTO:+0930
TZNAME:ACST
DTSTART:19770305T163000
END:STANDARD
BEGIN:DAYLIGHT
TZOFFSETFROM:+0930
TZOFFSETTO:+1030
TZNAME:ACDT
DTSTART:19771029T163000
END:DAYLIGHT
BEGIN:STANDARD
TZOFFSETFROM:+1030
TZOFFSETTO:+0930
TZNAME:ACST
DTSTART:19780304T163000
END:STANDARD
BEGIN:DAYLIGHT
TZOFFSETFROM:+0930
TZOFFSETTO:+1030
TZNAME:ACDT
DTSTART:19781028T163000
END:DAYLIGHT
BEGIN:STANDARD
TZOFFSETFROM:+1030
TZOFFSETTO:+0930
TZNAME:ACST
DTSTART:19790303T163000
END:STANDARD
BEGIN:DAYLIGHT
TZOFFSETFROM:+0930
TZOFFSETTO:+1030
TZNAME:ACDT
DTSTART:19791027T163000
END:DAYLIGHT
BEGIN:STANDARD
TZOFFSETFROM:+1030
TZOFFSETTO:+0930
TZNAME:ACST
DTSTART:19800301T163000
END:STANDARD
BEGIN:DAYLIGHT
TZOFFSETFROM:+0930
TZOFFSETTO:+1030
TZNAME:ACDT
DTSTART:19801025T163000
END:DAYLIGHT
BEGIN:STANDARD
TZOFFSETFROM:+1030
TZOFFSETTO:+0930
TZNAME:ACST
DTSTART:19810228T163000
END:STANDARD
BEGIN:DAYLIGHT
TZOFFSETFROM:+0930
TZOFFSETTO:+1030
TZNAME:ACDT
DTSTART:19811024T163000
END:DAYLIGHT
BEGIN:STANDARD
TZOFFSETFROM:+1030
TZOFFSETTO:+0930
TZNAME:ACST
DTSTART:19820306T163000
END:STANDARD
BEGIN:DAYLIGHT
TZOFFSETFROM:+0930
TZOFFSETTO:+1030
TZNAME:ACDT
DTSTART:19821030T163000
END:DAYLIGHT
BEGIN:STANDARD
TZOFFSETFROM:+1030
TZOFFSETTO:+0930
TZNAME:ACST
DTSTART:19830305T163000
END:STANDARD
BEGIN:DAYLIGHT
TZOFFSETFROM:+0930
TZOFFSETTO:+1030
TZNAME:ACDT
DTSTART:19831029T163000
END:DAYLIGHT
BEGIN:STANDARD
TZOFFSETFROM:+1030
TZOFFSETTO:+0930
TZNAME:ACST
DTSTART:19840303T163000
END:STANDARD
BEGIN:DAYLIGHT
TZOFFSETFROM:+0930
TZOFFSETTO:+1030
TZNAME:ACDT
DTSTART:19841027T163000
END:DAYLIGHT
BEGIN:STANDARD
TZOFFSETFROM:+1030
TZOFFSETTO:+0930
TZNAME:ACST
DTSTART:19850302T163000
END:STANDARD
BEGIN:DAYLIGHT
TZOFFSETFROM:+0930
TZOFFSETTO:+1030
TZNAME:ACDT
DTSTART:19851026T163000
END:DAYLIGHT
BEGIN:STANDARD
TZOFFSETFROM:+1030
TZOFFSETTO:+0930
TZNAME:ACST
DTSTART:19860315T163000
END:STANDARD
BEGIN:DAYLIGHT
TZOFFSETFROM:+0930
TZOFFSETTO:+1030
TZNAME:ACDT
DTSTART:19861018T163000
END:DAYLIGHT
BEGIN:STANDARD
TZOFFSETFROM:+1030
TZOFFSETTO:+0930
TZNAME:ACST
DTSTART:19870314T163000
END:STANDARD
BEGIN:DAYLIGHT
TZOFFSETFROM:+0930
TZOFFSETTO:+1030
TZNAME:ACDT
DTSTART:19871024T163000
END:DAYLIGHT
BEGIN:STANDARD
TZOFFSETFROM:+1030
TZOFFSETTO:+0930
TZNAME:ACST
DTSTART:19880319T163000
END:STANDARD
BEGIN:DAYLIGHT
TZOFFSETFROM:+0930
TZOFFSETTO:+1030
TZNAME:ACDT
DTSTART:19881029T163000
END:DAYLIGHT
BEGIN:STANDARD
TZOFFSETFROM:+1030
TZOFFSETTO:+0930
TZNAME:ACST
DTSTART:19890318T163000
END:STANDARD
BEGIN:DAYLIGHT
TZOFFSETFROM:+0930
TZOFFSETTO:+1030
TZNAME:ACDT
DTSTART:19891028T163000
END:DAYLIGHT
BEGIN:STANDARD
TZOFFSETFROM:+1030
TZOFFSETTO:+0930
TZNAME:ACST
DTSTART:19900317T163000
END:STANDARD
BEGIN:DAYLIGHT
TZOFFSETFROM:+0930
TZOFFSETTO:+1030
TZNAME:ACDT
DTSTART:19901027T163000
END:DAYLIGHT
BEGIN:STANDARD
TZOFFSETFROM:+1030
TZOFFSETTO:+0930
TZNAME:ACST
DTSTART:19910302T163000
END:STANDARD
BEGIN:DAYLIGHT
TZOFFSETFROM:+0930
TZOFFSETTO:+1030
TZNAME:ACDT
DTSTART:19911026T163000
END:DAYLIGHT
BEGIN:STANDARD
TZOFFSETFROM:+1030
TZOFFSETTO:+0930
TZNAME:ACST
DTSTART:19920321T163000
END:STANDARD
BEGIN:DAYLIGHT
TZOFFSETFROM:+0930
TZOFFSETTO:+1030
TZNAME:ACDT
DTSTART:19921024T163000
END:DAYLIGHT
BEGIN:STANDARD
TZOFFSETFROM:+1030
TZOFFSETTO:+0930
TZNAME:ACST
DTSTART:19930306T163000
END:STANDARD
BEGIN:DAYLIGHT
TZOFFSETFROM:+0930
TZOFFSETTO:+1030
TZNAME:ACDT
DTSTART:19931030T163000
END:DAYLIGHT
BEGIN:STANDARD
TZOFFSETFROM:+1030
TZOFFSETTO:+0930
TZNAME:ACST
DTSTART:19940319T163000
END:STANDARD
BEGIN:DAYLIGHT
TZOFFSETFROM:+0930
TZOFFSETTO:+1030
TZNAME:ACDT
DTSTART:19941029T163000
END:DAYLIGHT
BEGIN:STANDARD
TZOFFSETFROM:+1030
TZOFFSETTO:+0930
TZNAME:ACST
DTSTART:19950325T163000
END:STANDARD
BEGIN:DAYLIGHT
TZOFFSETFROM:+0930
TZOFFSETTO:+1030
TZNAME:ACDT
DTSTART:19951028T163000
END:DAYLIGHT
BEGIN:STANDARD
TZOFFSETFROM:+1030
TZOFFSETTO:+0930
TZNAME:ACST
DTSTART:19960330T163000
END:STANDARD
BEGIN:DAYLIGHT
TZOFFSETFROM:+0930
TZOFFSETTO:+1030
TZNAME:ACDT
DTSTART:19961026T163000
END:DAYLIGHT
BEGIN:STANDARD
TZOFFSETFROM:+1030
TZOFFSETTO:+0930
TZNAME:ACST
DTSTART:19970329T163000
END:STANDARD
BEGIN:DAYLIGHT
TZOFFSETFROM:+0930
TZOFFSETTO:+1030
TZNAME:ACDT
DTSTART:19971025T163000
END:DAYLIGHT
BEGIN:STANDARD
TZOFFSETFROM:+1030
TZOFFSETTO:+0930
TZNAME:ACST
DTSTART:19980328T163000
END:STANDARD
BEGIN:DAYLIGHT
TZOFFSETFROM:+0930
TZOFFSETTO:+1030
TZNAME:ACDT
DTSTART:19981024T163000
END:DAYLIGHT
BEGIN:STANDARD
TZOFFSETFROM:+1030
TZOFFSETTO:+0930
TZNAME:ACST
DTSTART:19990327T163000
END:STANDARD
BEGIN:DAYLIGHT
TZOFFSETFROM:+0930
TZOFFSETTO:+1030
TZNAME:ACDT
DTSTART:19991030T163000
END:DAYLIGHT
BEGIN:STANDARD
TZOFFSETFROM:+1030
TZOFFSETTO:+0930
TZNAME:ACST
DTSTART:20000325T163000
END:STANDARD
BEGIN:DAYLIGHT
TZOFFSETFROM:+0930
TZOFFSETTO:+1030
TZNAME:ACDT
DTSTART:20001028T163000
END:DAYLIGHT
BEGIN:STANDARD
TZOFFSETFROM:+1030
TZOFFSETTO:+0930
TZNAME:ACST
DTSTART:20010324T163000
END:STANDARD
BEGIN:DAYLIGHT
TZOFFSETFROM:+0930
TZOFFSETTO:+1030
TZNAME:ACDT
DTSTART:20011027T163000
END:DAYLIGHT
BEGIN:STANDARD
TZOFFSETFROM:+1030
TZOFFSETTO:+0930
TZNAME:ACST
DTSTART:20020330T163000
END:STANDARD
BEGIN:DAYLIGHT
TZOFFSETFROM:+0930
TZOFFSETTO:+1030
TZNAME:ACDT
DTSTART:20021026T163000
END:DAYLIGHT
BEGIN:STANDARD
TZOFFSETFROM:+1030
TZOFFSETTO:+0930
TZNAME:ACST
DTSTART:20030329T163000
END:STANDARD
BEGIN:DAYLIGHT
TZOFFSETFROM:+0930
TZOFFSETTO:+1030
TZNAME:ACDT
DTSTART:20031025T163000
END:DAYLIGHT
BEGIN:STANDARD
TZOFFSETFROM:+1030
TZOFFSETTO:+0930
TZNAME:ACST
DTSTART:20040327T163000
END:STANDARD
BEGIN:DAYLIGHT
TZOFFSETFROM:+0930
TZOFFSETTO:+1030
TZNAME:ACDT
DTSTART:20041030T163000
END:DAYLIGHT
BEGIN:STANDARD
TZOFFSETFROM:+1030
TZOFFSETTO:+0930
TZNAME:ACST
DTSTART:20050326T163000
END:STANDARD
BEGIN:DAYLIGHT
TZOFFSETFROM:+0930
TZOFFSETTO:+1030
TZNAME:ACDT
DTSTART:20051029T163000
END:DAYLIGHT
BEGIN:STANDARD
TZOFFSETFROM:+1030
TZOFFSETTO:+0930
TZNAME:ACST
DTSTART:20060401T163000
END:STANDARD
BEGIN:DAYLIGHT
TZOFFSETFROM:+0930
TZOFFSETTO:+1030
TZNAME:ACDT
DTSTART:20061028T163000
END:DAYLIGHT
BEGIN:STANDARD
TZOFFSETFROM:+1030
TZOFFSETTO:+0930
TZNAME:ACST
DTSTART:20070324T163000
END:STANDARD
BEGIN:DAYLIGHT
TZOFFSETFROM:+0930
TZOFFSETTO:+1030
TZNAME:ACDT
DTSTART:20071027T163000
END:DAYLIGHT
BEGIN:STANDARD
TZOFFSETFROM:+1030
TZOFFSETTO:+0930
TZNAME:ACST
DTSTART:20080405T163000
END:STANDARD
BEGIN:DAYLIGHT
TZOFFSETFROM:+0930
TZOFFSETTO:+1030
TZNAME:ACDT
DTSTART:20081004T163000
END:DAYLIGHT
BEGIN:STANDARD
TZOFFSETFROM:+1030
TZOFFSETTO:+0930
TZNAME:ACST
DTSTART:20090404T163000
END:STANDARD
BEGIN:DAYLIGHT
TZOFFSETFROM:+0930
TZOFFSETTO:+1030
TZNAME:ACDT
DTSTART:20091003T163000
END:DAYLIGHT
BEGIN:STANDARD
TZOFFSETFROM:+1030
TZOFFSETTO:+0930
TZNAME:ACST
DTSTART:20100403T163000
END:STANDARD
BEGIN:DAYLIGHT
TZOFFSETFROM:+0930
TZOFFSETTO:+1030
TZNAME:ACDT
DTSTART:20101002T163000
END:DAYLIGHT
BEGIN:STANDARD
TZOFFSETFROM:+1030
TZOFFSETTO:+0930
TZNAME:ACST
DTSTART:20110402T163000
END:STANDARD
BEGIN:DAYLIGHT
TZOFFSETFROM:+0930
TZOFFSETTO:+1030
TZNAME:ACDT
DTSTART:20111001T163000
END:DAYLIGHT
BEGIN:STANDARD
TZOFFSETFROM:+1030
TZOFFSETTO:+0930
TZNAME:ACST
DTSTART:20120331T163000
END:STANDARD
BEGIN:DAYLIGHT
TZOFFSETFROM:+0930
TZOFFSETTO:+1030
TZNAME:ACDT
DTSTART:20121006T163000
END:DAYLIGHT
BEGIN:STANDARD
TZOFFSETFROM:+1030
TZOFFSETTO:+0930
TZNAME:ACST
DTSTART:20130406T163000
END:STANDARD
BEGIN:DAYLIGHT
TZOFFSETFROM:+0930
TZOFFSETTO:+1030
TZNAME:ACDT
DTSTART:20131005T163000
END:DAYLIGHT
BEGIN:STANDARD
TZOFFSETFROM:+1030
TZOFFSETTO:+0930
TZNAME:ACST
DTSTART:20140405T163000
END:STANDARD
BEGIN:DAYLIGHT
TZOFFSETFROM:+0930
TZOFFSETTO:+1030
TZNAME:ACDT
DTSTART:20141004T163000
END:DAYLIGHT
BEGIN:STANDARD
TZOFFSETFROM:+1030
TZOFFSETTO:+0930
TZNAME:ACST
DTSTART:20150404T163000
END:STANDARD
BEGIN:DAYLIGHT
TZOFFSETFROM:+0930
TZOFFSETTO:+1030
TZNAME:ACDT
DTSTART:20151003T163000
END:DAYLIGHT
BEGIN:STANDARD
TZOFFSETFROM:+1030
TZOFFSETTO:+0930
TZNAME:ACST
DTSTART:20160402T163000
END:STANDARD
BEGIN:DAYLIGHT
TZOFFSETFROM:+0930
TZOFFSETTO:+1030
TZNAME:ACDT
DTSTART:20161001T163000
END:DAYLIGHT
BEGIN:STANDARD
TZOFFSETFROM:+1030
TZOFFSETTO:+0930
TZNAME:ACST
DTSTART:20170401T163000
END:STANDARD
BEGIN:DAYLIGHT
TZOFFSETFROM:+0930
TZOFFSETTO:+1030
TZNAME:ACDT
DTSTART:20170930T163000
END:DAYLIGHT
BEGIN:STANDARD
TZOFFSETFROM:+1030
TZOFFSETTO:+0930
TZNAME:ACST
DTSTART:20180331T163000
END:STANDARD
BEGIN:DAYLIGHT
TZOFFSETFROM:+0930
TZOFFSETTO:+1030
TZNAME:ACDT
DTSTART:20181006T163000
END:DAYLIGHT
BEGIN:STANDARD
TZOFFSETFROM:+1030
TZOFFSETTO:+0930
TZNAME:ACST
DTSTART:20190406T163000
END:STANDARD
BEGIN:DAYLIGHT
TZOFFSETFROM:+0930
TZOFFSETTO:+1030
TZNAME:ACDT
DTSTART:20191005T163000
END:DAYLIGHT
BEGIN:STANDARD
TZOFFSETFROM:+1030
TZOFFSETTO:+0930
TZNAME:ACST
DTSTART:20200404T163000
END:STANDARD
BEGIN:DAYLIGHT
TZOFFSETFROM:+0930
TZOFFSETTO:+1030
TZNAME:ACDT
DTSTART:20201003T163000
END:DAYLIGHT
BEGIN:STANDARD
TZOFFSETFROM:+1030
TZOFFSETTO:+0930
TZNAME:ACST
DTSTART:20210403T163000
END:STANDARD
BEGIN:DAYLIGHT
TZOFFSETFROM:+0930
TZOFFSETTO:+1030
TZNAME:ACDT
DTSTART:20211002T163000
END:DAYLIGHT
BEGIN:STANDARD
TZOFFSETFROM:+1030
TZOFFSETTO:+0930
TZNAME:ACST
DTSTART:20220402T163000
END:STANDARD
BEGIN:DAYLIGHT
TZOFFSETFROM:+0930
TZOFFSETTO:+1030
TZNAME:ACDT
DTSTART:20221001T163000
END:DAYLIGHT
BEGIN:STANDARD
TZOFFSETFROM:+1030
TZOFFSETTO:+0930
TZNAME:ACST
DTSTART:20230401T163000
END:STANDARD
BEGIN:DAYLIGHT
TZOFFSETFROM:+0930
TZOFFSETTO:+1030
TZNAME:ACDT
DTSTART:20230930T163000
END:DAYLIGHT
BEGIN:STANDARD
TZOFFSETFROM:+1030
TZOFFSETTO:+0930
TZNAME:ACST
DTSTART:20240406T163000
END:STANDARD
BEGIN:DAYLIGHT
TZOFFSETFROM:+0930
TZOFFSETTO:+1030
TZNAME:ACDT
DTSTART:20241005T163000
END:DAYLIGHT
END:VTIMEZONE
BEGIN:VEVENT
DTSTART;TZID=Australia/Adelaide:20230607T000000
DTEND;TZID=Australia/Adelaide:20230607T000000
DTSTAMP:20260424T193212
CREATED:20230620T014728Z
LAST-MODIFIED:20230620T014728Z
UID:10000114-1686096000-1686096000@bpihs.sa.edu.au
SUMMARY:Year 9 Research Sprint
DESCRIPTION:
URL:https://bpihs.sa.edu.au/event/year-9-research-sprint/
END:VEVENT
BEGIN:VEVENT
DTSTART;VALUE=DATE:20230512
DTEND;VALUE=DATE:20230513
DTSTAMP:20260424T193212
CREATED:20230901T031118Z
LAST-MODIFIED:20230901T031118Z
UID:10000209-1683849600-1683935999@bpihs.sa.edu.au
SUMMARY:2024 Year 11 Research Practices TBC
DESCRIPTION:
URL:https://bpihs.sa.edu.au/event/2024-year-11-research-practices-tbc/
END:VEVENT
BEGIN:VEVENT
DTSTART;TZID=Australia/Adelaide:20230412T180000
DTEND;TZID=Australia/Adelaide:20230412T190000
DTSTAMP:20260424T193212
CREATED:20230901T031118Z
LAST-MODIFIED:20230901T031118Z
UID:10000208-1681322400-1681326000@bpihs.sa.edu.au
SUMMARY:Governing Council Final Meeting & Dinner
DESCRIPTION:
URL:https://bpihs.sa.edu.au/event/governing-council-final-meeting-dinner/
END:VEVENT
BEGIN:VEVENT
DTSTART;VALUE=DATE:20230412
DTEND;VALUE=DATE:20230413
DTSTAMP:20260424T193212
CREATED:20230901T031118Z
LAST-MODIFIED:20230901T031118Z
UID:10000207-1681257600-1681343999@bpihs.sa.edu.au
SUMMARY:2024 Year 11 Research Practices TBC
DESCRIPTION:
URL:https://bpihs.sa.edu.au/event/2024-year-11-research-practices-tbc/
END:VEVENT
BEGIN:VEVENT
DTSTART;VALUE=DATE:20230311
DTEND;VALUE=DATE:20230312
DTSTAMP:20260424T193212
CREATED:20230705T044247Z
LAST-MODIFIED:20230705T044247Z
UID:10000126-1678492800-1678579199@bpihs.sa.edu.au
SUMMARY:Primary School Challenge
DESCRIPTION:
URL:https://bpihs.sa.edu.au/event/primary-school-challenge/
END:VEVENT
BEGIN:VEVENT
DTSTART;TZID=Australia/Adelaide:20230112T080000
DTEND;TZID=Australia/Adelaide:20230112T100000
DTSTAMP:20260424T193212
CREATED:20230705T044317Z
LAST-MODIFIED:20230705T044317Z
UID:10000145-1673510400-1673517600@bpihs.sa.edu.au
SUMMARY:BBQ Breakfast
DESCRIPTION:
URL:https://bpihs.sa.edu.au/event/bbq-breakfast/
END:VEVENT
BEGIN:VEVENT
DTSTART;VALUE=DATE:20230112
DTEND;VALUE=DATE:20230113
DTSTAMP:20260424T193212
CREATED:20230901T031104Z
LAST-MODIFIED:20230901T031104Z
UID:10000206-1673481600-1673567999@bpihs.sa.edu.au
SUMMARY:Student Free Day
DESCRIPTION:
URL:https://bpihs.sa.edu.au/event/student-free-day-3/
END:VEVENT
BEGIN:VEVENT
DTSTART;VALUE=DATE:20230112
DTEND;VALUE=DATE:20230113
DTSTAMP:20260424T193212
CREATED:20230705T044303Z
LAST-MODIFIED:20230705T044303Z
UID:10000146-1673481600-1673567999@bpihs.sa.edu.au
SUMMARY:Student Free Day
DESCRIPTION:
URL:https://bpihs.sa.edu.au/event/student-free-day-2/
END:VEVENT
BEGIN:VEVENT
DTSTART;VALUE=DATE:20260424
DTEND;VALUE=DATE:20230212
DTSTAMP:20260424T193212
CREATED:20230901T031048Z
LAST-MODIFIED:20230901T031048Z
UID:10000200-0-1676159999@bpihs.sa.edu.au
SUMMARY:Year 11 Exams Begin
DESCRIPTION:
URL:https://bpihs.sa.edu.au/event/year-11-exams-begin/
END:VEVENT
BEGIN:VEVENT
DTSTART;VALUE=DATE:20260424
DTEND;VALUE=DATE:20230110
DTSTAMP:20260424T193212
CREATED:20230705T044136Z
LAST-MODIFIED:20230705T044136Z
UID:10000120-0-1673308799@bpihs.sa.edu.au
SUMMARY:Year 10 Outdoor Ed Camp
DESCRIPTION:
URL:https://bpihs.sa.edu.au/event/year-10-outdoor-ed-camp/
END:VEVENT
BEGIN:VEVENT
DTSTART;VALUE=DATE:20260424
DTEND;VALUE=DATE:19700102
DTSTAMP:20260424T193212
CREATED:20230901T031118Z
LAST-MODIFIED:20230901T031118Z
UID:10000211-0-86399@bpihs.sa.edu.au
SUMMARY:1:50pm Early Dismissal
DESCRIPTION:
URL:https://bpihs.sa.edu.au/event/150pm-early-dismissal/
END:VEVENT
BEGIN:VEVENT
DTSTART;VALUE=DATE:20260424
DTEND;VALUE=DATE:19700102
DTSTAMP:20260424T193212
CREATED:20230901T031103Z
LAST-MODIFIED:20230901T031103Z
UID:10000204-0-86399@bpihs.sa.edu.au
SUMMARY:Year 10 Schedules Lessons End
DESCRIPTION:
URL:https://bpihs.sa.edu.au/event/year-10-schedules-lessons-end/
END:VEVENT
BEGIN:VEVENT
DTSTART;VALUE=DATE:20260424
DTEND;VALUE=DATE:19700102
DTSTAMP:20260424T193212
CREATED:20230901T031103Z
LAST-MODIFIED:20230901T031103Z
UID:10000205-0-86399@bpihs.sa.edu.au
SUMMARY:Year 12 Valedictory
DESCRIPTION:
URL:https://bpihs.sa.edu.au/event/year-12-valedictory/
END:VEVENT
BEGIN:VEVENT
DTSTART;VALUE=DATE:20260424
DTEND;VALUE=DATE:19700102
DTSTAMP:20260424T193212
CREATED:20230901T031103Z
LAST-MODIFIED:20230901T031103Z
UID:10000202-0-86399@bpihs.sa.edu.au
SUMMARY:Common Test Start
DESCRIPTION:
URL:https://bpihs.sa.edu.au/event/common-test-start/
END:VEVENT
BEGIN:VEVENT
DTSTART;VALUE=DATE:20260424
DTEND;VALUE=DATE:19700102
DTSTAMP:20260424T193212
CREATED:20230901T031048Z
LAST-MODIFIED:20230901T031048Z
UID:10000198-0-86399@bpihs.sa.edu.au
SUMMARY:Year 11 Scheduled Lessons End
DESCRIPTION:
URL:https://bpihs.sa.edu.au/event/year-11-scheduled-lessons-end/
END:VEVENT
BEGIN:VEVENT
DTSTART;VALUE=DATE:20260424
DTEND;VALUE=DATE:19700102
DTSTAMP:20260424T193212
CREATED:20230901T031048Z
LAST-MODIFIED:20230901T031048Z
UID:10000199-0-86399@bpihs.sa.edu.au
SUMMARY:Year 11 Students Home Study
DESCRIPTION:
URL:https://bpihs.sa.edu.au/event/year-11-students-home-study/
END:VEVENT
BEGIN:VEVENT
DTSTART;VALUE=DATE:20260424
DTEND;VALUE=DATE:19700102
DTSTAMP:20260424T193212
CREATED:20230901T031048Z
LAST-MODIFIED:20230901T031048Z
UID:10000201-0-86399@bpihs.sa.edu.au
SUMMARY:Year 8 Vaccination
DESCRIPTION:
URL:https://bpihs.sa.edu.au/event/year-8-vaccination/
END:VEVENT
BEGIN:VEVENT
DTSTART;VALUE=DATE:20260424
DTEND;VALUE=DATE:19700102
DTSTAMP:20260424T193212
CREATED:20230901T031035Z
LAST-MODIFIED:20230901T031035Z
UID:10000196-0-86399@bpihs.sa.edu.au
SUMMARY:Year 10 Outdoor Ed Aquatics
DESCRIPTION:
URL:https://bpihs.sa.edu.au/event/year-10-outdoor-ed-aquatics/
END:VEVENT
BEGIN:VEVENT
DTSTART;VALUE=DATE:20260424
DTEND;VALUE=DATE:19700102
DTSTAMP:20260424T193212
CREATED:20230901T031034Z
LAST-MODIFIED:20230901T031034Z
UID:10000195-0-86399@bpihs.sa.edu.au
SUMMARY:Year 10 Outdoor Ed Aquatics
DESCRIPTION:
URL:https://bpihs.sa.edu.au/event/year-10-outdoor-ed-aquatics/
END:VEVENT
BEGIN:VEVENT
DTSTART;VALUE=DATE:20260424
DTEND;VALUE=DATE:19700102
DTSTAMP:20260424T193212
CREATED:20230901T031018Z
LAST-MODIFIED:20230901T031018Z
UID:10000188-0-86399@bpihs.sa.edu.au
SUMMARY:Year 11 Outdoor Ed Aquatics
DESCRIPTION:
URL:https://bpihs.sa.edu.au/event/year-11-outdoor-ed-aquatics/
END:VEVENT
BEGIN:VEVENT
DTSTART;VALUE=DATE:20260424
DTEND;VALUE=DATE:19700102
DTSTAMP:20260424T193212
CREATED:20230901T031018Z
LAST-MODIFIED:20230901T031018Z
UID:10000189-0-86399@bpihs.sa.edu.au
SUMMARY:Year 7 Vaccination
DESCRIPTION:
URL:https://bpihs.sa.edu.au/event/year-7-vaccination/
END:VEVENT
BEGIN:VEVENT
DTSTART;VALUE=DATE:20260424
DTEND;VALUE=DATE:19700102
DTSTAMP:20260424T193212
CREATED:20230705T044317Z
LAST-MODIFIED:20230705T044317Z
UID:10000142-0-86399@bpihs.sa.edu.au
SUMMARY:1:50pm Early Dismissal
DESCRIPTION:
URL:https://bpihs.sa.edu.au/event/150pm-early-dismissal/
END:VEVENT
BEGIN:VEVENT
DTSTART;VALUE=DATE:20260424
DTEND;VALUE=DATE:19700102
DTSTAMP:20260424T193212
CREATED:20230705T044317Z
LAST-MODIFIED:20230705T044317Z
UID:10000143-0-86399@bpihs.sa.edu.au
SUMMARY:Pool Day
DESCRIPTION:
URL:https://bpihs.sa.edu.au/event/pool-day/
END:VEVENT
BEGIN:VEVENT
DTSTART;VALUE=DATE:20260424
DTEND;VALUE=DATE:19700102
DTSTAMP:20260424T193212
CREATED:20230705T044303Z
LAST-MODIFIED:20230705T044303Z
UID:10000149-0-86399@bpihs.sa.edu.au
SUMMARY:Year 11 Exams
DESCRIPTION:
URL:https://bpihs.sa.edu.au/event/year-11-exams-2/
END:VEVENT
BEGIN:VEVENT
DTSTART;VALUE=DATE:20260424
DTEND;VALUE=DATE:19700102
DTSTAMP:20260424T193212
CREATED:20230705T044247Z
LAST-MODIFIED:20230705T044247Z
UID:10000152-0-86399@bpihs.sa.edu.au
SUMMARY:Year 10 Outdoor Ed Aquatics
DESCRIPTION:
URL:https://bpihs.sa.edu.au/event/year-10-outdoor-ed-aquatics/
END:VEVENT
BEGIN:VEVENT
DTSTART;VALUE=DATE:20260424
DTEND;VALUE=DATE:19700102
DTSTAMP:20260424T193212
CREATED:20230705T044247Z
LAST-MODIFIED:20230705T044247Z
UID:10000151-0-86399@bpihs.sa.edu.au
SUMMARY:Year 10 Outdoor Ed Aquatics
DESCRIPTION:
URL:https://bpihs.sa.edu.au/event/year-10-outdoor-ed-aquatics/
END:VEVENT
BEGIN:VEVENT
DTSTART;VALUE=DATE:20260424
DTEND;VALUE=DATE:19700102
DTSTAMP:20260424T193212
CREATED:20230705T044232Z
LAST-MODIFIED:20230705T044232Z
UID:10000121-0-86399@bpihs.sa.edu.au
SUMMARY:Year 10 Vaccination
DESCRIPTION:
URL:https://bpihs.sa.edu.au/event/year-10-vaccination/
END:VEVENT
BEGIN:VEVENT
DTSTART;VALUE=DATE:20260424
DTEND;VALUE=DATE:19700102
DTSTAMP:20260424T193212
CREATED:20230705T044232Z
LAST-MODIFIED:20230705T044232Z
UID:10000123-0-86399@bpihs.sa.edu.au
SUMMARY:2:15pm Dismissal
DESCRIPTION:
URL:https://bpihs.sa.edu.au/event/215pm-dismissal/
END:VEVENT
BEGIN:VEVENT
DTSTART;VALUE=DATE:20260424
DTEND;VALUE=DATE:19700102
DTSTAMP:20260424T193212
CREATED:20230705T044232Z
LAST-MODIFIED:20230705T044232Z
UID:10000124-0-86399@bpihs.sa.edu.au
SUMMARY:Term 4 Begins
DESCRIPTION:
URL:https://bpihs.sa.edu.au/event/term-4-begins/
END:VEVENT
BEGIN:VEVENT
DTSTART;VALUE=DATE:20260424
DTEND;VALUE=DATE:19700102
DTSTAMP:20260424T193212
CREATED:20230705T044232Z
LAST-MODIFIED:20230705T044232Z
UID:10000125-0-86399@bpihs.sa.edu.au
SUMMARY:Year 11 Outdoor Ed Aquatics
DESCRIPTION:
URL:https://bpihs.sa.edu.au/event/year-11-outdoor-ed-aquatics/
END:VEVENT
END:VCALENDAR