BEGIN:VCALENDAR
VERSION:2.0
PRODID:-//Banksia Park International High School - ECPv6.15.20//NONSGML v1.0//EN
CALSCALE:GREGORIAN
METHOD:PUBLISH
X-ORIGINAL-URL:https://bpihs.sa.edu.au
X-WR-CALDESC:Events for Banksia Park International High School
REFRESH-INTERVAL;VALUE=DURATION:PT1H
X-Robots-Tag:noindex
X-PUBLISHED-TTL:PT1H
BEGIN:VTIMEZONE
TZID:Australia/Adelaide
BEGIN:STANDARD
TZOFFSETFROM:+1030
TZOFFSETTO:+0930
TZNAME:ACST
DTSTART:20220402T163000
END:STANDARD
BEGIN:DAYLIGHT
TZOFFSETFROM:+0930
TZOFFSETTO:+1030
TZNAME:ACDT
DTSTART:20221001T163000
END:DAYLIGHT
BEGIN:STANDARD
TZOFFSETFROM:+1030
TZOFFSETTO:+0930
TZNAME:ACST
DTSTART:20230401T163000
END:STANDARD
BEGIN:DAYLIGHT
TZOFFSETFROM:+0930
TZOFFSETTO:+1030
TZNAME:ACDT
DTSTART:20230930T163000
END:DAYLIGHT
BEGIN:STANDARD
TZOFFSETFROM:+1030
TZOFFSETTO:+0930
TZNAME:ACST
DTSTART:20240406T163000
END:STANDARD
BEGIN:DAYLIGHT
TZOFFSETFROM:+0930
TZOFFSETTO:+1030
TZNAME:ACDT
DTSTART:20241005T163000
END:DAYLIGHT
END:VTIMEZONE
BEGIN:VEVENT
DTSTART;VALUE=DATE:20230830
DTEND;VALUE=DATE:20230902
DTSTAMP:20260424T150535
CREATED:20230705T045901Z
LAST-MODIFIED:20230705T045901Z
UID:10000174-1693353600-1693612799@bpihs.sa.edu.au
SUMMARY:Year 10 Outdoor Ed Camp
DESCRIPTION:
URL:https://bpihs.sa.edu.au/event/year-10-outdoor-ed-camp/
END:VEVENT
BEGIN:VEVENT
DTSTART;VALUE=DATE:20230825
DTEND;VALUE=DATE:20230826
DTSTAMP:20260424T150535
CREATED:20230705T045901Z
LAST-MODIFIED:20230705T045901Z
UID:10000165-1692921600-1693007999@bpihs.sa.edu.au
SUMMARY:Wear It Purple Day
DESCRIPTION:
URL:https://bpihs.sa.edu.au/event/wear-it-purple-day/
END:VEVENT
BEGIN:VEVENT
DTSTART;VALUE=DATE:20230823
DTEND;VALUE=DATE:20230826
DTSTAMP:20260424T150535
CREATED:20230705T045901Z
LAST-MODIFIED:20230705T045901Z
UID:10000129-1692748800-1693007999@bpihs.sa.edu.au
SUMMARY:Year 12 Outdoor Ed Camp
DESCRIPTION:
URL:https://bpihs.sa.edu.au/event/year-12-outdoor-ed-camp/
END:VEVENT
BEGIN:VEVENT
DTSTART;VALUE=DATE:20230823
DTEND;VALUE=DATE:20230824
DTSTAMP:20260424T150535
CREATED:20230705T045900Z
LAST-MODIFIED:20230705T045900Z
UID:10000130-1692748800-1692835199@bpihs.sa.edu.au
SUMMARY:Web Preferences Open
DESCRIPTION:
URL:https://bpihs.sa.edu.au/event/web-preferences-open/
END:VEVENT
BEGIN:VEVENT
DTSTART;VALUE=DATE:20230821
DTEND;VALUE=DATE:20230826
DTSTAMP:20260424T150535
CREATED:20230705T045900Z
LAST-MODIFIED:20230705T045900Z
UID:10000131-1692576000-1693007999@bpihs.sa.edu.au
SUMMARY:Book Week
DESCRIPTION:
URL:https://bpihs.sa.edu.au/event/book-week/
END:VEVENT
BEGIN:VEVENT
DTSTART;VALUE=DATE:20230818
DTEND;VALUE=DATE:20230819
DTSTAMP:20260424T150535
CREATED:20230705T045741Z
LAST-MODIFIED:20230705T045741Z
UID:10000132-1692316800-1692403199@bpihs.sa.edu.au
SUMMARY:Bullying No Way Day
DESCRIPTION:
URL:https://bpihs.sa.edu.au/event/bullying-no-way-day-2/
END:VEVENT
BEGIN:VEVENT
DTSTART;VALUE=DATE:20230817
DTEND;VALUE=DATE:20230818
DTSTAMP:20260424T150535
CREATED:20230705T045741Z
LAST-MODIFIED:20230705T045741Z
UID:10000133-1692230400-1692316799@bpihs.sa.edu.au
SUMMARY:Primary School Concert
DESCRIPTION:
URL:https://bpihs.sa.edu.au/event/primary-school-concert-2/
END:VEVENT
BEGIN:VEVENT
DTSTART;VALUE=DATE:20230814
DTEND;VALUE=DATE:20230819
DTSTAMP:20260424T150535
CREATED:20230705T045740Z
LAST-MODIFIED:20230705T045740Z
UID:10000134-1691971200-1692403199@bpihs.sa.edu.au
SUMMARY:Science Week
DESCRIPTION:
URL:https://bpihs.sa.edu.au/event/science-week-2/
END:VEVENT
BEGIN:VEVENT
DTSTART;VALUE=DATE:20230809
DTEND;VALUE=DATE:20230810
DTSTAMP:20260424T150535
CREATED:20230705T045740Z
LAST-MODIFIED:20230705T045740Z
UID:10000135-1691539200-1691625599@bpihs.sa.edu.au
SUMMARY:Author Visit
DESCRIPTION:
URL:https://bpihs.sa.edu.au/event/author-visit-2/
END:VEVENT
BEGIN:VEVENT
DTSTART;TZID=Australia/Adelaide:20230808T180000
DTEND;TZID=Australia/Adelaide:20230808T190000
DTSTAMP:20260424T150535
CREATED:20230705T044113Z
LAST-MODIFIED:20230705T045740Z
UID:10000115-1691517600-1691521200@bpihs.sa.edu.au
SUMMARY:Course Counselling Night
DESCRIPTION:
URL:https://bpihs.sa.edu.au/event/course-counselling-night/
END:VEVENT
BEGIN:VEVENT
DTSTART;VALUE=DATE:20230804
DTEND;VALUE=DATE:20230805
DTSTAMP:20260424T150535
CREATED:20230705T045736Z
LAST-MODIFIED:20230705T045736Z
UID:10000136-1691107200-1691193599@bpihs.sa.edu.au
SUMMARY:Balaklava Eisteddfod
DESCRIPTION:
URL:https://bpihs.sa.edu.au/event/balaklava-eisteddfod-2/
END:VEVENT
BEGIN:VEVENT
DTSTART;TZID=Australia/Adelaide:20230803T090000
DTEND;TZID=Australia/Adelaide:20230803T100000
DTSTAMP:20260424T150535
CREATED:20230705T045734Z
LAST-MODIFIED:20230705T045734Z
UID:10000138-1691053200-1691056800@bpihs.sa.edu.au
SUMMARY:Official Opening of Kumangka
DESCRIPTION:
URL:https://bpihs.sa.edu.au/event/official-opening-of-kumangka-2/
END:VEVENT
BEGIN:VEVENT
DTSTART;VALUE=DATE:20230803
DTEND;VALUE=DATE:20230804
DTSTAMP:20260424T150535
CREATED:20230705T045735Z
LAST-MODIFIED:20230705T045735Z
UID:10000137-1691020800-1691107199@bpihs.sa.edu.au
SUMMARY:Australian Maths Competition
DESCRIPTION:
URL:https://bpihs.sa.edu.au/event/australian-maths-competition-2/
END:VEVENT
BEGIN:VEVENT
DTSTART;TZID=Australia/Adelaide:20230802T090000
DTEND;TZID=Australia/Adelaide:20230802T100000
DTSTAMP:20260424T150535
CREATED:20230705T045732Z
LAST-MODIFIED:20230705T045732Z
UID:10000139-1690966800-1690970400@bpihs.sa.edu.au
SUMMARY:Governor's Visit for Year 12s
DESCRIPTION:
URL:https://bpihs.sa.edu.au/event/governors-visit-for-year-12s-2/
END:VEVENT
BEGIN:VEVENT
DTSTART;VALUE=DATE:20230724
DTEND;VALUE=DATE:20230725
DTSTAMP:20260424T150535
CREATED:20230705T045731Z
LAST-MODIFIED:20230705T045731Z
UID:10000140-1690156800-1690243199@bpihs.sa.edu.au
SUMMARY:Term 3 Begins
DESCRIPTION:
URL:https://bpihs.sa.edu.au/event/term-3-begins-2/
END:VEVENT
BEGIN:VEVENT
DTSTART;VALUE=DATE:20230712
DTEND;VALUE=DATE:20230813
DTSTAMP:20260424T150535
CREATED:20230901T031118Z
LAST-MODIFIED:20230901T031118Z
UID:10000210-1689120000-1691884799@bpihs.sa.edu.au
SUMMARY:Year 7 Transition
DESCRIPTION:
URL:https://bpihs.sa.edu.au/event/year-7-transition/
END:VEVENT
BEGIN:VEVENT
DTSTART;VALUE=DATE:20230712
DTEND;VALUE=DATE:20230813
DTSTAMP:20260424T150535
CREATED:20230705T044317Z
LAST-MODIFIED:20230705T044317Z
UID:10000144-1689120000-1691884799@bpihs.sa.edu.au
SUMMARY:Year 7 Transition Day
DESCRIPTION:
URL:https://bpihs.sa.edu.au/event/year-7-transition-day/
END:VEVENT
BEGIN:VEVENT
DTSTART;TZID=Australia/Adelaide:20230711T180000
DTEND;TZID=Australia/Adelaide:20230711T190000
DTSTAMP:20260424T150535
CREATED:20230901T031034Z
LAST-MODIFIED:20230901T031034Z
UID:10000193-1689098400-1689102000@bpihs.sa.edu.au
SUMMARY:Incoming Year 7 Information Evening
DESCRIPTION:
URL:https://bpihs.sa.edu.au/event/incoming-year-7-information-evening/
END:VEVENT
BEGIN:VEVENT
DTSTART;TZID=Australia/Adelaide:20230711T180000
DTEND;TZID=Australia/Adelaide:20230711T190000
DTSTAMP:20260424T150535
CREATED:20230705T044317Z
LAST-MODIFIED:20230705T044317Z
UID:10000128-1689098400-1689102000@bpihs.sa.edu.au
SUMMARY:Year 7 Information Evening
DESCRIPTION:
URL:https://bpihs.sa.edu.au/event/year-7-information-evening/
END:VEVENT
BEGIN:VEVENT
DTSTART;TZID=Australia/Adelaide:20230703T000000
DTEND;TZID=Australia/Adelaide:20230707T000000
DTSTAMP:20260424T150535
CREATED:20230620T014724Z
LAST-MODIFIED:20230620T020532Z
UID:10000113-1688342400-1688688000@bpihs.sa.edu.au
SUMMARY:Year 10 Work Experience Week
DESCRIPTION:
URL:https://bpihs.sa.edu.au/event/year-10-work-experience-week/
END:VEVENT
BEGIN:VEVENT
DTSTART;VALUE=DATE:20230629
DTEND;VALUE=DATE:20230630
DTSTAMP:20260424T150535
CREATED:20230620T014722Z
LAST-MODIFIED:20230620T015216Z
UID:10000112-1687996800-1688083199@bpihs.sa.edu.au
SUMMARY:Year 8 Research Olympics
DESCRIPTION:
URL:https://bpihs.sa.edu.au/event/year-8-research-olympics/
END:VEVENT
BEGIN:VEVENT
DTSTART;VALUE=DATE:20230623
DTEND;VALUE=DATE:20230624
DTSTAMP:20260424T150535
CREATED:20230620T014721Z
LAST-MODIFIED:20230620T015556Z
UID:10000111-1687478400-1687564799@bpihs.sa.edu.au
SUMMARY:Student Free Day
DESCRIPTION:
URL:https://bpihs.sa.edu.au/event/student-free-day/
END:VEVENT
BEGIN:VEVENT
DTSTART;TZID=Australia/Adelaide:20230622T090000
DTEND;TZID=Australia/Adelaide:20230622T130000
DTSTAMP:20260424T150535
CREATED:20230615T235746Z
LAST-MODIFIED:20230620T021044Z
UID:10000108-1687424400-1687438800@bpihs.sa.edu.au
SUMMARY:Entrepreneurial Showcase
DESCRIPTION:We will be hosting our annual Entrepreneurial Showcase on Thursday June 22 from 9am till 12.50pm. Students from a range of year levels and classes will be showcasing their entrepreneurial ideas and creations from this semester. Families are invited to look through our school’s resource centre on the day. All visitors must sign in at the front office first.
URL:https://bpihs.sa.edu.au/event/entrepreneurial-showcase/
LOCATION:Resource Centre\, 610 Milne Rd\, Banksia Park\, SA\, 5091\, Australia
ATTACH;FMTTYPE=image/png:https://bpihs.sa.edu.au/wp-content/uploads/2023/06/SHOWCASE-2023-1.png
END:VEVENT
BEGIN:VEVENT
DTSTART;TZID=Australia/Adelaide:20230620T190000
DTEND;TZID=Australia/Adelaide:20230620T203000
DTSTAMP:20260424T150535
CREATED:20230620T014719Z
LAST-MODIFIED:20230620T021725Z
UID:10000109-1687287600-1687293000@bpihs.sa.edu.au
SUMMARY:Middle and Senior School Music Night
DESCRIPTION:Come along for an evening of catchy music provided by our Year 9 Rock Bands\, Year 7 Concert Band\, the BPIHS Percussion Ensemble and the Stage Band. Entry is free and the evening will conclude at approximately 8:30pm.
URL:https://bpihs.sa.edu.au/event/middle-and-senior-school-music-night/
LOCATION:Kumangka Theatre\, 610 Milne Rd\, Banksia Park\, South Australia\, 5091\, Australia
ATTACH;FMTTYPE=image/png:https://bpihs.sa.edu.au/wp-content/uploads/2023/06/download.png
END:VEVENT
BEGIN:VEVENT
DTSTART;VALUE=DATE:20230615
DTEND;VALUE=DATE:20230622
DTSTAMP:20260424T150535
CREATED:20230620T014720Z
LAST-MODIFIED:20230620T015247Z
UID:10000110-1686787200-1687391999@bpihs.sa.edu.au
SUMMARY:Year 11 Exams
DESCRIPTION:
URL:https://bpihs.sa.edu.au/event/year-11-exams/
END:VEVENT
BEGIN:VEVENT
DTSTART;TZID=Australia/Adelaide:20230611T180000
DTEND;TZID=Australia/Adelaide:20230611T190000
DTSTAMP:20260424T150535
CREATED:20230901T031034Z
LAST-MODIFIED:20230901T031034Z
UID:10000192-1686506400-1686510000@bpihs.sa.edu.au
SUMMARY:Governing Council
DESCRIPTION:
URL:https://bpihs.sa.edu.au/event/governing-council/
END:VEVENT
BEGIN:VEVENT
DTSTART;VALUE=DATE:20230611
DTEND;VALUE=DATE:20230612
DTSTAMP:20260424T150535
CREATED:20230901T031018Z
LAST-MODIFIED:20230901T031018Z
UID:10000191-1686441600-1686527999@bpihs.sa.edu.au
SUMMARY:Year 12 Stage 2 Exams
DESCRIPTION:
URL:https://bpihs.sa.edu.au/event/year-12-stage-2-exams/
END:VEVENT
BEGIN:VEVENT
DTSTART;VALUE=DATE:20230611
DTEND;VALUE=DATE:20230612
DTSTAMP:20260424T150535
CREATED:20230705T044247Z
LAST-MODIFIED:20230705T044247Z
UID:10000127-1686441600-1686527999@bpihs.sa.edu.au
SUMMARY:Year 12 Exams
DESCRIPTION:
URL:https://bpihs.sa.edu.au/event/year-12-exams/
END:VEVENT
BEGIN:VEVENT
DTSTART;TZID=Australia/Adelaide:20230607T000000
DTEND;TZID=Australia/Adelaide:20230607T000000
DTSTAMP:20260424T150535
CREATED:20230620T014728Z
LAST-MODIFIED:20230620T014728Z
UID:10000114-1686096000-1686096000@bpihs.sa.edu.au
SUMMARY:Year 9 Research Sprint
DESCRIPTION:
URL:https://bpihs.sa.edu.au/event/year-9-research-sprint/
END:VEVENT
BEGIN:VEVENT
DTSTART;VALUE=DATE:20230512
DTEND;VALUE=DATE:20230513
DTSTAMP:20260424T150535
CREATED:20230901T031118Z
LAST-MODIFIED:20230901T031118Z
UID:10000209-1683849600-1683935999@bpihs.sa.edu.au
SUMMARY:2024 Year 11 Research Practices TBC
DESCRIPTION:
URL:https://bpihs.sa.edu.au/event/2024-year-11-research-practices-tbc/
END:VEVENT
END:VCALENDAR