BEGIN:VCALENDAR
VERSION:2.0
PRODID:-//Banksia Park International High School - ECPv6.15.20//NONSGML v1.0//EN
CALSCALE:GREGORIAN
METHOD:PUBLISH
X-WR-CALNAME:Banksia Park International High School
X-ORIGINAL-URL:https://bpihs.sa.edu.au
X-WR-CALDESC:Events for Banksia Park International High School
REFRESH-INTERVAL;VALUE=DURATION:PT1H
X-Robots-Tag:noindex
X-PUBLISHED-TTL:PT1H
BEGIN:VTIMEZONE
TZID:Australia/Adelaide
BEGIN:STANDARD
TZOFFSETFROM:+1030
TZOFFSETTO:+0930
TZNAME:ACST
DTSTART:20220402T163000
END:STANDARD
BEGIN:DAYLIGHT
TZOFFSETFROM:+0930
TZOFFSETTO:+1030
TZNAME:ACDT
DTSTART:20221001T163000
END:DAYLIGHT
BEGIN:STANDARD
TZOFFSETFROM:+1030
TZOFFSETTO:+0930
TZNAME:ACST
DTSTART:20230401T163000
END:STANDARD
BEGIN:DAYLIGHT
TZOFFSETFROM:+0930
TZOFFSETTO:+1030
TZNAME:ACDT
DTSTART:20230930T163000
END:DAYLIGHT
BEGIN:STANDARD
TZOFFSETFROM:+1030
TZOFFSETTO:+0930
TZNAME:ACST
DTSTART:20240406T163000
END:STANDARD
BEGIN:DAYLIGHT
TZOFFSETFROM:+0930
TZOFFSETTO:+1030
TZNAME:ACDT
DTSTART:20241005T163000
END:DAYLIGHT
END:VTIMEZONE
BEGIN:VEVENT
DTSTART;TZID=Australia/Adelaide:20231107T180000
DTEND;TZID=Australia/Adelaide:20231107T190000
DTSTAMP:20260424T092045
CREATED:20230901T035416Z
LAST-MODIFIED:20230901T035416Z
UID:10000258-1699380000-1699383600@bpihs.sa.edu.au
SUMMARY:Incoming Year 7 Information Evening
DESCRIPTION:
URL:https://bpihs.sa.edu.au/event/incoming-year-7-information-evening/
END:VEVENT
BEGIN:VEVENT
DTSTART;TZID=Australia/Adelaide:20231107T180000
DTEND;TZID=Australia/Adelaide:20231107T190000
DTSTAMP:20260424T092045
CREATED:20230901T032628Z
LAST-MODIFIED:20230901T032628Z
UID:10000233-1699380000-1699383600@bpihs.sa.edu.au
SUMMARY:Incoming Year 7 Information Evening
DESCRIPTION:
URL:https://bpihs.sa.edu.au/event/incoming-year-7-information-evening/
END:VEVENT
BEGIN:VEVENT
DTSTART;TZID=Australia/Adelaide:20231107T180000
DTEND;TZID=Australia/Adelaide:20231107T190000
DTSTAMP:20260424T092045
CREATED:20230705T050016Z
LAST-MODIFIED:20230705T050016Z
UID:10000099-1699380000-1699383600@bpihs.sa.edu.au
SUMMARY:Year 7 Information Evening
DESCRIPTION:
URL:https://bpihs.sa.edu.au/event/year-7-information-evening/
END:VEVENT
BEGIN:VEVENT
DTSTART;TZID=Australia/Adelaide:20231106T180000
DTEND;TZID=Australia/Adelaide:20231106T190000
DTSTAMP:20260424T092045
CREATED:20230901T035416Z
LAST-MODIFIED:20230901T035416Z
UID:10000257-1699293600-1699297200@bpihs.sa.edu.au
SUMMARY:Governing Council
DESCRIPTION:
URL:https://bpihs.sa.edu.au/event/governing-council/
END:VEVENT
BEGIN:VEVENT
DTSTART;TZID=Australia/Adelaide:20231106T180000
DTEND;TZID=Australia/Adelaide:20231106T190000
DTSTAMP:20260424T092045
CREATED:20230901T032628Z
LAST-MODIFIED:20230901T032628Z
UID:10000232-1699293600-1699297200@bpihs.sa.edu.au
SUMMARY:Governing Council
DESCRIPTION:
URL:https://bpihs.sa.edu.au/event/governing-council/
END:VEVENT
BEGIN:VEVENT
DTSTART;VALUE=DATE:20231106
DTEND;VALUE=DATE:20231118
DTSTAMP:20260424T092045
CREATED:20230901T035411Z
LAST-MODIFIED:20230901T035411Z
UID:10000256-1699228800-1700265599@bpihs.sa.edu.au
SUMMARY:Year 12 Stage 2 Exams
DESCRIPTION:
URL:https://bpihs.sa.edu.au/event/year-12-stage-2-exams/
END:VEVENT
BEGIN:VEVENT
DTSTART;VALUE=DATE:20231106
DTEND;VALUE=DATE:20231118
DTSTAMP:20260424T092045
CREATED:20230901T032612Z
LAST-MODIFIED:20230901T032612Z
UID:10000231-1699228800-1700265599@bpihs.sa.edu.au
SUMMARY:Year 12 Stage 2 Exams
DESCRIPTION:
URL:https://bpihs.sa.edu.au/event/year-12-stage-2-exams/
END:VEVENT
BEGIN:VEVENT
DTSTART;VALUE=DATE:20231106
DTEND;VALUE=DATE:20231118
DTSTAMP:20260424T092045
CREATED:20230705T045945Z
LAST-MODIFIED:20230705T045945Z
UID:10000096-1699228800-1700265599@bpihs.sa.edu.au
SUMMARY:Year 12 Exams
DESCRIPTION:
URL:https://bpihs.sa.edu.au/event/year-12-exams/
END:VEVENT
BEGIN:VEVENT
DTSTART;VALUE=DATE:20231103
DTEND;VALUE=DATE:20231104
DTSTAMP:20260424T092045
CREATED:20230705T045945Z
LAST-MODIFIED:20230705T045945Z
UID:10000095-1698969600-1699055999@bpihs.sa.edu.au
SUMMARY:Primary School Challenge
DESCRIPTION:
URL:https://bpihs.sa.edu.au/event/primary-school-challenge/
END:VEVENT
BEGIN:VEVENT
DTSTART;TZID=Australia/Adelaide:20231031T173000
DTEND;TZID=Australia/Adelaide:20231031T183000
DTSTAMP:20260424T092045
CREATED:20230901T035410Z
LAST-MODIFIED:20230901T035410Z
UID:10000255-1698773400-1698777000@bpihs.sa.edu.au
SUMMARY:Finance Committee
DESCRIPTION:
URL:https://bpihs.sa.edu.au/event/finance-committee/
END:VEVENT
BEGIN:VEVENT
DTSTART;TZID=Australia/Adelaide:20231031T173000
DTEND;TZID=Australia/Adelaide:20231031T183000
DTSTAMP:20260424T092045
CREATED:20230901T032612Z
LAST-MODIFIED:20230901T032612Z
UID:10000230-1698773400-1698777000@bpihs.sa.edu.au
SUMMARY:Finance Committee
DESCRIPTION:
URL:https://bpihs.sa.edu.au/event/finance-committee/
END:VEVENT
BEGIN:VEVENT
DTSTART;VALUE=DATE:20231030
DTEND;VALUE=DATE:20231031
DTSTAMP:20260424T092045
CREATED:20230901T032612Z
LAST-MODIFIED:20230901T032612Z
UID:10000229-1698624000-1698710399@bpihs.sa.edu.au
SUMMARY:Year 7 Vaccination
DESCRIPTION:
URL:https://bpihs.sa.edu.au/event/year-7-vaccination/
END:VEVENT
BEGIN:VEVENT
DTSTART;TZID=Australia/Adelaide:20231025T090000
DTEND;TZID=Australia/Adelaide:20231025T100000
DTSTAMP:20260424T092045
CREATED:20230901T035407Z
LAST-MODIFIED:20230901T035407Z
UID:10000253-1698224400-1698228000@bpihs.sa.edu.au
SUMMARY:Whole School Assembly
DESCRIPTION:
URL:https://bpihs.sa.edu.au/event/whole-school-assembly-3/
END:VEVENT
BEGIN:VEVENT
DTSTART;TZID=Australia/Adelaide:20231025T090000
DTEND;TZID=Australia/Adelaide:20231025T100000
DTSTAMP:20260424T092045
CREATED:20230901T032612Z
LAST-MODIFIED:20230901T032612Z
UID:10000228-1698224400-1698228000@bpihs.sa.edu.au
SUMMARY:Whole School Assembly
DESCRIPTION:
URL:https://bpihs.sa.edu.au/event/whole-school-assembly-3/
END:VEVENT
BEGIN:VEVENT
DTSTART;VALUE=DATE:20231020
DTEND;VALUE=DATE:20231024
DTSTAMP:20260424T092045
CREATED:20230901T035406Z
LAST-MODIFIED:20230901T035406Z
UID:10000252-1697760000-1698105599@bpihs.sa.edu.au
SUMMARY:Year 11 Outdoor Ed Aquatics
DESCRIPTION:
URL:https://bpihs.sa.edu.au/event/year-11-outdoor-ed-aquatics/
END:VEVENT
BEGIN:VEVENT
DTSTART;VALUE=DATE:20231020
DTEND;VALUE=DATE:20231024
DTSTAMP:20260424T092045
CREATED:20230901T032612Z
LAST-MODIFIED:20230901T032612Z
UID:10000227-1697760000-1698105599@bpihs.sa.edu.au
SUMMARY:Year 11 Outdoor Ed Aquatics
DESCRIPTION:
URL:https://bpihs.sa.edu.au/event/year-11-outdoor-ed-aquatics/
END:VEVENT
BEGIN:VEVENT
DTSTART;VALUE=DATE:20231020
DTEND;VALUE=DATE:20231024
DTSTAMP:20260424T092045
CREATED:20230705T045931Z
LAST-MODIFIED:20230705T045931Z
UID:10000094-1697760000-1698105599@bpihs.sa.edu.au
SUMMARY:Year 11 Outdoor Ed Aquatics
DESCRIPTION:
URL:https://bpihs.sa.edu.au/event/year-11-outdoor-ed-aquatics/
END:VEVENT
BEGIN:VEVENT
DTSTART;VALUE=DATE:20231016
DTEND;VALUE=DATE:20231017
DTSTAMP:20260424T092045
CREATED:20230901T032548Z
LAST-MODIFIED:20230901T032548Z
UID:10000226-1697414400-1697500799@bpihs.sa.edu.au
SUMMARY:First Day of Term 4
DESCRIPTION:
URL:https://bpihs.sa.edu.au/event/first-day-of-term-4-2/
END:VEVENT
BEGIN:VEVENT
DTSTART;VALUE=DATE:20231016
DTEND;VALUE=DATE:20231017
DTSTAMP:20260424T092045
CREATED:20230705T045931Z
LAST-MODIFIED:20230705T045931Z
UID:10000093-1697414400-1697500799@bpihs.sa.edu.au
SUMMARY:Term 4 Begins
DESCRIPTION:
URL:https://bpihs.sa.edu.au/event/term-4-begins/
END:VEVENT
BEGIN:VEVENT
DTSTART;VALUE=DATE:20231011
DTEND;VALUE=DATE:20231012
DTSTAMP:20260424T092045
CREATED:20230901T031034Z
LAST-MODIFIED:20230901T031034Z
UID:10000194-1696982400-1697068799@bpihs.sa.edu.au
SUMMARY:Banksia Cup
DESCRIPTION:
URL:https://bpihs.sa.edu.au/event/banksia-cup/
END:VEVENT
BEGIN:VEVENT
DTSTART;VALUE=DATE:20231011
DTEND;VALUE=DATE:20231012
DTSTAMP:20260424T092045
CREATED:20230705T044247Z
LAST-MODIFIED:20230705T044247Z
UID:10000141-1696982400-1697068799@bpihs.sa.edu.au
SUMMARY:Banksia Cup
DESCRIPTION:
URL:https://bpihs.sa.edu.au/event/banksia-cup/
END:VEVENT
BEGIN:VEVENT
DTSTART;VALUE=DATE:20230929
DTEND;VALUE=DATE:20230930
DTSTAMP:20260424T092045
CREATED:20230901T032548Z
LAST-MODIFIED:20230901T032548Z
UID:10000225-1695945600-1696031999@bpihs.sa.edu.au
SUMMARY:2:15pm School Dismissal
DESCRIPTION:
URL:https://bpihs.sa.edu.au/event/215pm-school-dismissal-2/
END:VEVENT
BEGIN:VEVENT
DTSTART;VALUE=DATE:20230929
DTEND;VALUE=DATE:20230930
DTSTAMP:20260424T092045
CREATED:20230705T045930Z
LAST-MODIFIED:20230705T045930Z
UID:10000092-1695945600-1696031999@bpihs.sa.edu.au
SUMMARY:2:15pm Dismissal
DESCRIPTION:
URL:https://bpihs.sa.edu.au/event/215pm-dismissal/
END:VEVENT
BEGIN:VEVENT
DTSTART;VALUE=DATE:20230927
DTEND;VALUE=DATE:20230928
DTSTAMP:20260424T092045
CREATED:20230901T032548Z
LAST-MODIFIED:20230901T032548Z
UID:10000224-1695772800-1695859199@bpihs.sa.edu.au
SUMMARY:Year 11 Street Smart
DESCRIPTION:
URL:https://bpihs.sa.edu.au/event/year-11-street-smart-2/
END:VEVENT
BEGIN:VEVENT
DTSTART;TZID=Australia/Adelaide:20230926T180000
DTEND;TZID=Australia/Adelaide:20230926T210000
DTSTAMP:20260424T092045
CREATED:20230705T045930Z
LAST-MODIFIED:20230705T045930Z
UID:10000091-1695751200-1695762000@bpihs.sa.edu.au
SUMMARY:Senior Solo Performance Evening
DESCRIPTION:
URL:https://bpihs.sa.edu.au/event/senior-solo-performance-evening/
END:VEVENT
BEGIN:VEVENT
DTSTART;VALUE=DATE:20230926
DTEND;VALUE=DATE:20230927
DTSTAMP:20260424T092045
CREATED:20230901T032548Z
LAST-MODIFIED:20230901T032548Z
UID:10000223-1695686400-1695772799@bpihs.sa.edu.au
SUMMARY:Senior Solo Performance Evening
DESCRIPTION:
URL:https://bpihs.sa.edu.au/event/senior-solo-performance-evening-2/
END:VEVENT
BEGIN:VEVENT
DTSTART;VALUE=DATE:20230920
DTEND;VALUE=DATE:20230921
DTSTAMP:20260424T092045
CREATED:20230901T032547Z
LAST-MODIFIED:20230901T032547Z
UID:10000222-1695168000-1695254399@bpihs.sa.edu.au
SUMMARY:Whole School Assembly
DESCRIPTION:
URL:https://bpihs.sa.edu.au/event/whole-school-assembly-2/
END:VEVENT
BEGIN:VEVENT
DTSTART;VALUE=DATE:20230918
DTEND;VALUE=DATE:20230923
DTSTAMP:20260424T092045
CREATED:20230901T032409Z
LAST-MODIFIED:20230901T032409Z
UID:10000219-1694995200-1695427199@bpihs.sa.edu.au
SUMMARY:Arts Week
DESCRIPTION:
URL:https://bpihs.sa.edu.au/event/arts-week-2/
END:VEVENT
BEGIN:VEVENT
DTSTART;VALUE=DATE:20230918
DTEND;VALUE=DATE:20230923
DTSTAMP:20260424T092045
CREATED:20230705T045915Z
LAST-MODIFIED:20230705T045915Z
UID:10000089-1694995200-1695427199@bpihs.sa.edu.au
SUMMARY:Arts Week
DESCRIPTION:
URL:https://bpihs.sa.edu.au/event/arts-week-2/
END:VEVENT
BEGIN:VEVENT
DTSTART;VALUE=DATE:20230918
DTEND;VALUE=DATE:20230919
DTSTAMP:20260424T092045
CREATED:20230901T032409Z
LAST-MODIFIED:20230901T032409Z
UID:10000221-1694995200-1695081599@bpihs.sa.edu.au
SUMMARY:Year 10 Vaccination
DESCRIPTION:
URL:https://bpihs.sa.edu.au/event/year-10-vaccination-2/
END:VEVENT
END:VCALENDAR