BEGIN:VCALENDAR
VERSION:2.0
PRODID:-//Banksia Park International High School - ECPv6.15.20//NONSGML v1.0//EN
CALSCALE:GREGORIAN
METHOD:PUBLISH
X-WR-CALNAME:Banksia Park International High School
X-ORIGINAL-URL:https://bpihs.sa.edu.au
X-WR-CALDESC:Events for Banksia Park International High School
REFRESH-INTERVAL;VALUE=DURATION:PT1H
X-Robots-Tag:noindex
X-PUBLISHED-TTL:PT1H
BEGIN:VTIMEZONE
TZID:Australia/Adelaide
BEGIN:STANDARD
TZOFFSETFROM:+1030
TZOFFSETTO:+0930
TZNAME:ACST
DTSTART:20220402T163000
END:STANDARD
BEGIN:DAYLIGHT
TZOFFSETFROM:+0930
TZOFFSETTO:+1030
TZNAME:ACDT
DTSTART:20221001T163000
END:DAYLIGHT
BEGIN:STANDARD
TZOFFSETFROM:+1030
TZOFFSETTO:+0930
TZNAME:ACST
DTSTART:20230401T163000
END:STANDARD
BEGIN:DAYLIGHT
TZOFFSETFROM:+0930
TZOFFSETTO:+1030
TZNAME:ACDT
DTSTART:20230930T163000
END:DAYLIGHT
BEGIN:STANDARD
TZOFFSETFROM:+1030
TZOFFSETTO:+0930
TZNAME:ACST
DTSTART:20240406T163000
END:STANDARD
BEGIN:DAYLIGHT
TZOFFSETFROM:+0930
TZOFFSETTO:+1030
TZNAME:ACDT
DTSTART:20241005T163000
END:DAYLIGHT
END:VTIMEZONE
BEGIN:VEVENT
DTSTART;TZID=Australia/Adelaide:20231120T110500
DTEND;TZID=Australia/Adelaide:20231120T113500
DTSTAMP:20260424T085355
CREATED:20230901T032641Z
LAST-MODIFIED:20230901T032641Z
UID:10000237-1700478300-1700480100@bpihs.sa.edu.au
SUMMARY:Uniform Committee Meeting
DESCRIPTION:
URL:https://bpihs.sa.edu.au/event/uniform-committee-meeting/
END:VEVENT
BEGIN:VEVENT
DTSTART;TZID=Australia/Adelaide:20231120T110500
DTEND;TZID=Australia/Adelaide:20231120T113500
DTSTAMP:20260424T085355
CREATED:20230901T035423Z
LAST-MODIFIED:20230901T035423Z
UID:10000262-1700478300-1700480100@bpihs.sa.edu.au
SUMMARY:Uniform Committee Meeting
DESCRIPTION:
URL:https://bpihs.sa.edu.au/event/uniform-committee-meeting/
END:VEVENT
BEGIN:VEVENT
DTSTART;VALUE=DATE:20231121
DTEND;VALUE=DATE:20231122
DTSTAMP:20260424T085355
CREATED:20230901T032641Z
LAST-MODIFIED:20230901T032641Z
UID:10000238-1700524800-1700611199@bpihs.sa.edu.au
SUMMARY:Year 11 Scheduled Lessons End
DESCRIPTION:
URL:https://bpihs.sa.edu.au/event/year-11-scheduled-lessons-end/
END:VEVENT
BEGIN:VEVENT
DTSTART;VALUE=DATE:20231121
DTEND;VALUE=DATE:20231122
DTSTAMP:20260424T085355
CREATED:20230901T035423Z
LAST-MODIFIED:20230901T035423Z
UID:10000263-1700524800-1700611199@bpihs.sa.edu.au
SUMMARY:Year 11 Scheduled Lessons End
DESCRIPTION:
URL:https://bpihs.sa.edu.au/event/year-11-scheduled-lessons-end/
END:VEVENT
BEGIN:VEVENT
DTSTART;TZID=Australia/Adelaide:20231121T140000
DTEND;TZID=Australia/Adelaide:20231121T150000
DTSTAMP:20260424T085355
CREATED:20230705T050000Z
LAST-MODIFIED:20230705T050000Z
UID:10000168-1700575200-1700578800@bpihs.sa.edu.au
SUMMARY:Year 11 Final Assembly
DESCRIPTION:
URL:https://bpihs.sa.edu.au/event/year-11-final-assembly/
END:VEVENT
BEGIN:VEVENT
DTSTART;VALUE=DATE:20231122
DTEND;VALUE=DATE:20231123
DTSTAMP:20260424T085355
CREATED:20230901T032641Z
LAST-MODIFIED:20230901T032641Z
UID:10000239-1700611200-1700697599@bpihs.sa.edu.au
SUMMARY:Year 11 Students Home Study
DESCRIPTION:
URL:https://bpihs.sa.edu.au/event/year-11-students-home-study/
END:VEVENT
BEGIN:VEVENT
DTSTART;VALUE=DATE:20231122
DTEND;VALUE=DATE:20231123
DTSTAMP:20260424T085355
CREATED:20230901T035423Z
LAST-MODIFIED:20230901T035423Z
UID:10000264-1700611200-1700697599@bpihs.sa.edu.au
SUMMARY:Year 11 Students Home Study
DESCRIPTION:
URL:https://bpihs.sa.edu.au/event/year-11-students-home-study/
END:VEVENT
BEGIN:VEVENT
DTSTART;VALUE=DATE:20231123
DTEND;VALUE=DATE:20231124
DTSTAMP:20260424T085355
CREATED:20230901T032641Z
LAST-MODIFIED:20230901T032641Z
UID:10000240-1700697600-1700783999@bpihs.sa.edu.au
SUMMARY:Year 11 Exams Begin
DESCRIPTION:
URL:https://bpihs.sa.edu.au/event/year-11-exams-begin/
END:VEVENT
BEGIN:VEVENT
DTSTART;VALUE=DATE:20231123
DTEND;VALUE=DATE:20231124
DTSTAMP:20260424T085355
CREATED:20230901T035424Z
LAST-MODIFIED:20230901T035424Z
UID:10000265-1700697600-1700783999@bpihs.sa.edu.au
SUMMARY:Year 11 Exams Begin
DESCRIPTION:
URL:https://bpihs.sa.edu.au/event/year-11-exams-begin/
END:VEVENT
BEGIN:VEVENT
DTSTART;VALUE=DATE:20231123
DTEND;VALUE=DATE:20231130
DTSTAMP:20260424T085355
CREATED:20230705T050001Z
LAST-MODIFIED:20230705T050001Z
UID:10000167-1700697600-1701302399@bpihs.sa.edu.au
SUMMARY:Year 11 Exams
DESCRIPTION:
URL:https://bpihs.sa.edu.au/event/year-11-exams-2/
END:VEVENT
BEGIN:VEVENT
DTSTART;VALUE=DATE:20231127
DTEND;VALUE=DATE:20231128
DTSTAMP:20260424T085355
CREATED:20230901T032641Z
LAST-MODIFIED:20230901T032641Z
UID:10000241-1701043200-1701129599@bpihs.sa.edu.au
SUMMARY:Year 8 Vaccination
DESCRIPTION:
URL:https://bpihs.sa.edu.au/event/year-8-vaccination/
END:VEVENT
BEGIN:VEVENT
DTSTART;VALUE=DATE:20231127
DTEND;VALUE=DATE:20231216
DTSTAMP:20260424T085355
CREATED:20230901T032656Z
LAST-MODIFIED:20230901T032656Z
UID:10000242-1701043200-1702684799@bpihs.sa.edu.au
SUMMARY:Common Test Start
DESCRIPTION:
URL:https://bpihs.sa.edu.au/event/common-test-start/
END:VEVENT
BEGIN:VEVENT
DTSTART;VALUE=DATE:20231127
DTEND;VALUE=DATE:20231216
DTSTAMP:20260424T085355
CREATED:20230901T035449Z
LAST-MODIFIED:20230901T035449Z
UID:10000267-1701043200-1702684799@bpihs.sa.edu.au
SUMMARY:Common Test Start
DESCRIPTION:
URL:https://bpihs.sa.edu.au/event/common-test-start/
END:VEVENT
BEGIN:VEVENT
DTSTART;TZID=Australia/Adelaide:20231128T173000
DTEND;TZID=Australia/Adelaide:20231128T183000
DTSTAMP:20260424T085355
CREATED:20230901T032656Z
LAST-MODIFIED:20230901T032656Z
UID:10000243-1701192600-1701196200@bpihs.sa.edu.au
SUMMARY:Finance Committee
DESCRIPTION:
URL:https://bpihs.sa.edu.au/event/finance-committee/
END:VEVENT
BEGIN:VEVENT
DTSTART;TZID=Australia/Adelaide:20231128T173000
DTEND;TZID=Australia/Adelaide:20231128T183000
DTSTAMP:20260424T085355
CREATED:20230901T035449Z
LAST-MODIFIED:20230901T035449Z
UID:10000268-1701192600-1701196200@bpihs.sa.edu.au
SUMMARY:Finance Committee
DESCRIPTION:
URL:https://bpihs.sa.edu.au/event/finance-committee-2/
END:VEVENT
BEGIN:VEVENT
DTSTART;VALUE=DATE:20231130
DTEND;VALUE=DATE:20231201
DTSTAMP:20260424T085355
CREATED:20230901T032656Z
LAST-MODIFIED:20230901T032656Z
UID:10000244-1701302400-1701388799@bpihs.sa.edu.au
SUMMARY:Year 10 Schedules Lessons End
DESCRIPTION:
URL:https://bpihs.sa.edu.au/event/year-10-schedules-lessons-end/
END:VEVENT
BEGIN:VEVENT
DTSTART;VALUE=DATE:20231130
DTEND;VALUE=DATE:20231201
DTSTAMP:20260424T085355
CREATED:20230901T032656Z
LAST-MODIFIED:20230901T032656Z
UID:10000245-1701302400-1701388799@bpihs.sa.edu.au
SUMMARY:Year 12 Valedictory
DESCRIPTION:
URL:https://bpihs.sa.edu.au/event/year-12-valedictory/
END:VEVENT
BEGIN:VEVENT
DTSTART;VALUE=DATE:20231130
DTEND;VALUE=DATE:20231201
DTSTAMP:20260424T085355
CREATED:20230901T035449Z
LAST-MODIFIED:20230901T035449Z
UID:10000269-1701302400-1701388799@bpihs.sa.edu.au
SUMMARY:Year 10 Schedules Lessons End
DESCRIPTION:
URL:https://bpihs.sa.edu.au/event/year-10-schedules-lessons-end/
END:VEVENT
BEGIN:VEVENT
DTSTART;VALUE=DATE:20231130
DTEND;VALUE=DATE:20231201
DTSTAMP:20260424T085355
CREATED:20230901T035449Z
LAST-MODIFIED:20230901T035449Z
UID:10000270-1701302400-1701388799@bpihs.sa.edu.au
SUMMARY:Year 12 Valedictory
DESCRIPTION:
URL:https://bpihs.sa.edu.au/event/year-12-valedictory/
END:VEVENT
BEGIN:VEVENT
DTSTART;TZID=Australia/Adelaide:20231130T140000
DTEND;TZID=Australia/Adelaide:20231130T150000
DTSTAMP:20260424T085355
CREATED:20230705T050001Z
LAST-MODIFIED:20230705T050001Z
UID:10000166-1701352800-1701356400@bpihs.sa.edu.au
SUMMARY:Year 10 Final Assembly
DESCRIPTION:
URL:https://bpihs.sa.edu.au/event/year-10-final-assembly/
END:VEVENT
BEGIN:VEVENT
DTSTART;TZID=Australia/Adelaide:20231130T180000
DTEND;TZID=Australia/Adelaide:20231130T210000
DTSTAMP:20260424T085355
CREATED:20230705T050001Z
LAST-MODIFIED:20230705T050001Z
UID:10000153-1701367200-1701378000@bpihs.sa.edu.au
SUMMARY:Year 12 Valedictory
DESCRIPTION:
URL:https://bpihs.sa.edu.au/event/year-12-valedictory/
END:VEVENT
BEGIN:VEVENT
DTSTART;VALUE=DATE:20231201
DTEND;VALUE=DATE:20231202
DTSTAMP:20260424T085355
CREATED:20230705T050001Z
LAST-MODIFIED:20230705T050001Z
UID:10000164-1701388800-1701475199@bpihs.sa.edu.au
SUMMARY:Student Free Day
DESCRIPTION:
URL:https://bpihs.sa.edu.au/event/student-free-day-2/
END:VEVENT
BEGIN:VEVENT
DTSTART;VALUE=DATE:20231201
DTEND;VALUE=DATE:20231202
DTSTAMP:20260424T085355
CREATED:20230901T032656Z
LAST-MODIFIED:20230901T032656Z
UID:10000246-1701388800-1701475199@bpihs.sa.edu.au
SUMMARY:Student Free Day
DESCRIPTION:
URL:https://bpihs.sa.edu.au/event/student-free-day-4/
END:VEVENT
BEGIN:VEVENT
DTSTART;VALUE=DATE:20231201
DTEND;VALUE=DATE:20231202
DTSTAMP:20260424T085355
CREATED:20230901T035450Z
LAST-MODIFIED:20230901T035450Z
UID:10000271-1701388800-1701475199@bpihs.sa.edu.au
SUMMARY:Student Free Day
DESCRIPTION:
URL:https://bpihs.sa.edu.au/event/student-free-day-4/
END:VEVENT
BEGIN:VEVENT
DTSTART;TZID=Australia/Adelaide:20231201T080000
DTEND;TZID=Australia/Adelaide:20231201T100000
DTSTAMP:20260424T085355
CREATED:20230705T050015Z
LAST-MODIFIED:20230705T050015Z
UID:10000163-1701417600-1701424800@bpihs.sa.edu.au
SUMMARY:BBQ Breakfast
DESCRIPTION:
URL:https://bpihs.sa.edu.au/event/bbq-breakfast/
END:VEVENT
BEGIN:VEVENT
DTSTART;VALUE=DATE:20231204
DTEND;VALUE=DATE:20231205
DTSTAMP:20260424T085355
CREATED:20230901T032711Z
LAST-MODIFIED:20230901T032711Z
UID:10000247-1701648000-1701734399@bpihs.sa.edu.au
SUMMARY:2024 Year 11 Research Practices TBC
DESCRIPTION:
URL:https://bpihs.sa.edu.au/event/2024-year-11-research-practices-tbc/
END:VEVENT
BEGIN:VEVENT
DTSTART;VALUE=DATE:20231204
DTEND;VALUE=DATE:20231205
DTSTAMP:20260424T085355
CREATED:20230901T035518Z
LAST-MODIFIED:20230901T035518Z
UID:10000272-1701648000-1701734399@bpihs.sa.edu.au
SUMMARY:2024 Year 11 Research Practices TBC
DESCRIPTION:
URL:https://bpihs.sa.edu.au/event/2024-year-11-research-practices-tbc/
END:VEVENT
BEGIN:VEVENT
DTSTART;TZID=Australia/Adelaide:20231204T180000
DTEND;TZID=Australia/Adelaide:20231204T190000
DTSTAMP:20260424T085355
CREATED:20230901T032711Z
LAST-MODIFIED:20230901T032711Z
UID:10000248-1701712800-1701716400@bpihs.sa.edu.au
SUMMARY:Governing Council Final Meeting & Dinner
DESCRIPTION:
URL:https://bpihs.sa.edu.au/event/governing-council-final-meeting-dinner/
END:VEVENT
BEGIN:VEVENT
DTSTART;TZID=Australia/Adelaide:20231204T180000
DTEND;TZID=Australia/Adelaide:20231204T190000
DTSTAMP:20260424T085355
CREATED:20230901T035518Z
LAST-MODIFIED:20230901T035518Z
UID:10000273-1701712800-1701716400@bpihs.sa.edu.au
SUMMARY:Governing Council Final Meeting & Dinner
DESCRIPTION:
URL:https://bpihs.sa.edu.au/event/governing-council-final-meeting-dinner/
END:VEVENT
BEGIN:VEVENT
DTSTART;VALUE=DATE:20231205
DTEND;VALUE=DATE:20231206
DTSTAMP:20260424T085355
CREATED:20230901T032711Z
LAST-MODIFIED:20230901T032711Z
UID:10000249-1701734400-1701820799@bpihs.sa.edu.au
SUMMARY:2024 Year 11 Research Practices TBC
DESCRIPTION:
URL:https://bpihs.sa.edu.au/event/2024-year-11-research-practices-tbc/
END:VEVENT
END:VCALENDAR